BEGIN:VCALENDAR
VERSION:2.0
PRODID:icalendar-ruby
CALSCALE:GREGORIAN
METHOD:PUBLISH
BEGIN:VEVENT
DTSTAMP:20260420T170800Z
UID:54-624761@bethelbaptistwv.com
DTSTART:20260425T130000Z
DTEND:20260425T170000Z
CLASS:PUBLIC
CREATED:20260418T113007
DESCRIPTION:We will be having a Church Clean-up Day on 4/25 at 9:00 AM. The
 re will be projects available for all ages. Dress in your old clothes and 
 bring come with a heart to serve as we steward the grounds and building th
 at God has provided for our church family!
LAST-MODIFIED:20260418T113007
LOCATION:
SUMMARY:Church Cleanup Day
URL;VALUE=URI:https://bethelbaptistwv.com/events/church-cleanup-day--54/202
 6-04-25
ATTACH;FILENAME=Church-Cleanup-Day-Presentation.png;FMTTYPE=image/png:https
 ://dq5pwpg1q8ru0.cloudfront.net/2026/04/18/15/30/07/6a0b1c2c-6339-48f1-92a
 1-eb0bdf1cc59f/Church-Cleanup-Day-Presentation.png
END:VEVENT
END:VCALENDAR
