BEGIN:VCALENDAR
VERSION:2.0
PRODID:icalendar-ruby
CALSCALE:GREGORIAN
METHOD:PUBLISH
BEGIN:VEVENT
DTSTAMP:20260424T125401Z
UID:53-618919@bethelbaptistwv.com
DTSTART:20260426T170000Z
DTEND:20260503T180000Z
CLASS:PUBLIC
CREATED:20260416T125241
DESCRIPTION:Join us for our Spring Missions &amp\; Outreach Emphasis as we 
 focus on what it means to be Ambassadors for Christ (2 Corinthians 5:20). 
 On April 26\, we’ll hear from Michelle Bearhs\, Executive Director of La
 trobe Mission\, as she shares how God is working locally. Then on May 3\, 
 Mike Allen and Alicia Disler from Missions 316 will be with us for a speci
 al evening\, including a fellowship dinner at 5:00 PM followed by a presen
 tation at 6:00 PM. Come be encouraged\, challenged\, and equipped to live 
 as a representative of Christ.
LAST-MODIFIED:20260416T125241
LOCATION:
SUMMARY:Spring Missions and Outreach Emphasis
URL;VALUE=URI:https://bethelbaptistwv.com/events/spring-missions-and-outrea
 ch-emphasis/2026-04-26
ATTACH;FILENAME=Spring-Missions-and-Outreach-Emphasis.png;FMTTYPE=image/png
 :https://dq5pwpg1q8ru0.cloudfront.net/2026/04/16/16/52/40/7d2b0ffc-6fa1-4f
 ff-875c-3221b2bea0f6/Spring-Missions-and-Outreach-Emphasis.png
END:VEVENT
END:VCALENDAR
