BEGIN:VCALENDAR
VERSION:2.0
PRODID:icalendar-ruby
CALSCALE:GREGORIAN
METHOD:PUBLISH
BEGIN:VEVENT
DTSTAMP:20260426T011650Z
UID:7-649039@bethelbaptistwv.com
DTSTART:20261011T133000Z
DTEND:20261011T143000Z
CLASS:PUBLIC
CREATED:20260425T184410
DESCRIPTION:Sunday Worship
LAST-MODIFIED:20260425T184410
LOCATION:
SUMMARY:Sunday Worship
URL;VALUE=URI:https://bethelbaptistwv.com/events/sunday-worship/2026-10-11
ATTACH;FILENAME=Sunday-Worship.jpg;FMTTYPE=image/jpeg:https://dq5pwpg1q8ru0
 .cloudfront.net/2024/04/05/23/23/31/52e8ead8-f348-477c-8339-d9522763045f/S
 unday-Worship.jpg
END:VEVENT
END:VCALENDAR
